BEGIN:VCALENDAR
VERSION:2.0
PRODID:-//wp-events-plugin.com//7.2.2.1//EN
TZID:Europe/London
X-WR-TIMEZONE:Europe/London
BEGIN:VEVENT
UID:138@iliaskitchen.co.uk
DTSTART;TZID=Europe/London:20240608T093000
DTEND;TZID=Europe/London:20240608T143000
DTSTAMP:20240123T134406Z
URL:https://iliaskitchen.co.uk/events/summer-flavours-of-the-middle-east-2
 /
SUMMARY:Summer Flavours of the Middle East
DESCRIPTION:In our 'Summer Flavours of the Middle East' course you'll take 
 a gastronomic journey through Turkey\, Lebanon and Egypt and learn how to 
 make some truly authentic dishes from the region.\n\nThese include:\n\nPit
 tas (flat breads)\,\n\nSpinach Boreks (Turkish filo parcels)\,\n\nHummus (
 chickpea and tahini dip)\,\n\nBaba Ganoush (aubergine and garlic dip)\,\n\
 nTabouleh (a Lebanese herb salad studded with bulgar wheat and tomatoes)\,
 \n\nTa’miyya (Egyptian falafel made with split Fava beans)\,\n\nKofte (M
 inced lamb meat balls) and\n\nBaklava (sweet pastry made with layers of fi
 lo pastry and filled with honey and chopped nuts).\n\nThe course will invo
 lve demonstrations\, instructions\, guidance and hands-on experience.\n\nT
 he course will conclude with a sit down meal\, enjoying the dishes we've m
 ade.\n\nLunch\, refreshments and course material are included in the price
 .
CATEGORIES:Adult's Day Cookery Classes
LOCATION:Ilia’s Kitchen Cookery School\, Suffolk Food Hall\, Ipswich\, IP
 92AB\, United Kingdom
X-APPLE-STRUCTURED-LOCATION;VALUE=URI;X-ADDRESS=Suffolk Food Hall\, Ipswich
 \, IP92AB\, United Kingdom;X-APPLE-RADIUS=100;X-TITLE=Ilia’s Kitchen Coo
 kery School:geo:0,0
END:VEVENT
BEGIN:VTIMEZONE
TZID:Europe/London
X-LIC-LOCATION:Europe/London
BEGIN:DAYLIGHT
DTSTART:20240331T020000
TZOFFSETFROM:+0000
TZOFFSETTO:+0100
TZNAME:BST
END:DAYLIGHT
END:VTIMEZONE
END:VCALENDAR